BEGIN:VCALENDAR
VERSION:2.0
PRODID:-//Capt&#039;aine Jack - ECPv6.15.20//NONSGML v1.0//EN
CALSCALE:GREGORIAN
METHOD:PUBLISH
X-WR-CALNAME:Capt&#039;aine Jack
X-ORIGINAL-URL:https://www.captaine-jack.com
X-WR-CALDESC:Évènements pour Capt&#039;aine Jack
REFRESH-INTERVAL;VALUE=DURATION:PT1H
X-Robots-Tag:noindex
X-PUBLISHED-TTL:PT1H
BEGIN:VTIMEZONE
TZID:Europe/Paris
BEGIN:DAYLIGHT
TZOFFSETFROM:+0100
TZOFFSETTO:+0200
TZNAME:CEST
DTSTART:20180325T010000
END:DAYLIGHT
BEGIN:STANDARD
TZOFFSETFROM:+0200
TZOFFSETTO:+0100
TZNAME:CET
DTSTART:20181028T010000
END:STANDARD
BEGIN:DAYLIGHT
TZOFFSETFROM:+0100
TZOFFSETTO:+0200
TZNAME:CEST
DTSTART:20190331T010000
END:DAYLIGHT
BEGIN:STANDARD
TZOFFSETFROM:+0200
TZOFFSETTO:+0100
TZNAME:CET
DTSTART:20191027T010000
END:STANDARD
BEGIN:DAYLIGHT
TZOFFSETFROM:+0100
TZOFFSETTO:+0200
TZNAME:CEST
DTSTART:20200329T010000
END:DAYLIGHT
BEGIN:STANDARD
TZOFFSETFROM:+0200
TZOFFSETTO:+0100
TZNAME:CET
DTSTART:20201025T010000
END:STANDARD
END:VTIMEZONE
BEGIN:VEVENT
DTSTART;TZID=Europe/Paris:20190706T190000
DTEND;TZID=Europe/Paris:20190706T233000
DTSTAMP:20260425T040449
CREATED:20190326T073122Z
LAST-MODIFIED:20190326T073243Z
UID:19876-1562439600-1562455800@www.captaine-jack.com
SUMMARY:6 juillet - Bussurel 70400
DESCRIPTION:Les terrasses de l’été \nSalle du Moulin 70400 Bussurel
URL:https://www.captaine-jack.com/classes/6-juillet-bussurel-70400/
LOCATION:Bussurel\, Salle du Moulin\, Bussurel\, 70400\, France
CATEGORIES:Concert Cap'taine Jack
ATTACH;FMTTYPE=image/jpeg:https://www.captaine-jack.com/wp-content/uploads/2019/03/36499871_247502239346787_4004661991082819584_o.jpg
END:VEVENT
BEGIN:VEVENT
DTSTART;TZID=Europe/Paris:20190718T190000
DTEND;TZID=Europe/Paris:20190719T010000
DTSTAMP:20260425T040449
CREATED:20190326T073653Z
LAST-MODIFIED:20190326T073653Z
UID:19880-1563476400-1563498000@www.captaine-jack.com
SUMMARY:18 juillet - Saint Germain le Châtelet
DESCRIPTION:Festival de musique gratuit\nLes Jeudis Germinois\n90110 Saint Germain le Châtelet\n– Concert Cap’taine Jack (Rock celtique) le 18 juillet 2019\nRenseignements :\nAssociation le Germinoise Téléphone 03 84 23 70 72
URL:https://www.captaine-jack.com/classes/18-juillet-saint-germain-le-chatelet/
LOCATION:Saint Germain le Châtelet\, Saint Germain le Châtelet\, 90110\, France
ATTACH;FMTTYPE=image/jpeg:https://www.captaine-jack.com/wp-content/uploads/2019/03/38652764_1885381244888656_594761612246646784_o.jpg
END:VEVENT
END:VCALENDAR