BEGIN:VCALENDAR
VERSION:2.0
PRODID:-//Capt&#039;aine Jack - ECPv6.15.20//NONSGML v1.0//EN
CALSCALE:GREGORIAN
METHOD:PUBLISH
X-WR-CALNAME:Capt&#039;aine Jack
X-ORIGINAL-URL:https://www.captaine-jack.com
X-WR-CALDESC:Évènements pour Capt&#039;aine Jack
REFRESH-INTERVAL;VALUE=DURATION:PT1H
X-Robots-Tag:noindex
X-PUBLISHED-TTL:PT1H
BEGIN:VTIMEZONE
TZID:Europe/Paris
BEGIN:DAYLIGHT
TZOFFSETFROM:+0100
TZOFFSETTO:+0200
TZNAME:CEST
DTSTART:20180325T010000
END:DAYLIGHT
BEGIN:STANDARD
TZOFFSETFROM:+0200
TZOFFSETTO:+0100
TZNAME:CET
DTSTART:20181028T010000
END:STANDARD
BEGIN:DAYLIGHT
TZOFFSETFROM:+0100
TZOFFSETTO:+0200
TZNAME:CEST
DTSTART:20190331T010000
END:DAYLIGHT
BEGIN:STANDARD
TZOFFSETFROM:+0200
TZOFFSETTO:+0100
TZNAME:CET
DTSTART:20191027T010000
END:STANDARD
BEGIN:DAYLIGHT
TZOFFSETFROM:+0100
TZOFFSETTO:+0200
TZNAME:CEST
DTSTART:20200329T010000
END:DAYLIGHT
BEGIN:STANDARD
TZOFFSETFROM:+0200
TZOFFSETTO:+0100
TZNAME:CET
DTSTART:20201025T010000
END:STANDARD
END:VTIMEZONE
BEGIN:VEVENT
DTSTART;TZID=Europe/Paris:20190906T203000
DTEND;TZID=Europe/Paris:20190906T233000
DTSTAMP:20260425T002621
CREATED:20190326T074121Z
LAST-MODIFIED:20190326T074121Z
UID:19884-1567801800-1567812600@www.captaine-jack.com
SUMMARY:6 septembre - Audincourt 25400
DESCRIPTION:Concert rock/celtique\nRetour à l’Oncle Scott’s 2 Rue de la Naille\, 25400 Audincourt\nRenseignements et réservations au : 03 81 35 90 09
URL:https://www.captaine-jack.com/classes/6-septembre-audincourt-25400/
LOCATION:Audincourt\, Rue de la Naille\, Audincourt\, Doubs\, 25400\, France
ATTACH;FMTTYPE=image/jpeg:https://www.captaine-jack.com/wp-content/uploads/2019/03/PhotoscèneBannans.jpg
END:VEVENT
BEGIN:VEVENT
DTSTART;TZID=Europe/Paris:20190914T210000
DTEND;TZID=Europe/Paris:20190915T010000
DTSTAMP:20260425T002621
CREATED:20190326T074457Z
LAST-MODIFIED:20190326T113643Z
UID:19888-1568494800-1568509200@www.captaine-jack.com
SUMMARY:14 septembre - Blamont 25310
DESCRIPTION:Concert rock/celtique\nBar restaurant La Quincaillerie 7 Grande Rue\, 25310 Blamont\nRenseignements : 09 70 91 94 37
URL:https://www.captaine-jack.com/classes/14-septembre-blamont-25310/
LOCATION:La Quincaillerie\, 7\, Grande Rue\, Blamont\, Doubs\, 25310\, France
ATTACH;FMTTYPE=image/jpeg:https://www.captaine-jack.com/wp-content/uploads/2019/03/DoRrRCJWsAEm_dT-Copie.jpg
END:VEVENT
END:VCALENDAR