BEGIN:VCALENDAR
VERSION:2.0
PRODID:-//Capt&#039;aine Jack - ECPv6.15.20//NONSGML v1.0//EN
CALSCALE:GREGORIAN
METHOD:PUBLISH
X-WR-CALNAME:Capt&#039;aine Jack
X-ORIGINAL-URL:https://www.captaine-jack.com
X-WR-CALDESC:Évènements pour Capt&#039;aine Jack
REFRESH-INTERVAL;VALUE=DURATION:PT1H
X-Robots-Tag:noindex
X-PUBLISHED-TTL:PT1H
BEGIN:VTIMEZONE
TZID:Europe/Paris
BEGIN:DAYLIGHT
TZOFFSETFROM:+0100
TZOFFSETTO:+0200
TZNAME:CEST
DTSTART:20190331T010000
END:DAYLIGHT
BEGIN:STANDARD
TZOFFSETFROM:+0200
TZOFFSETTO:+0100
TZNAME:CET
DTSTART:20191027T010000
END:STANDARD
BEGIN:DAYLIGHT
TZOFFSETFROM:+0100
TZOFFSETTO:+0200
TZNAME:CEST
DTSTART:20200329T010000
END:DAYLIGHT
BEGIN:STANDARD
TZOFFSETFROM:+0200
TZOFFSETTO:+0100
TZNAME:CET
DTSTART:20201025T010000
END:STANDARD
BEGIN:DAYLIGHT
TZOFFSETFROM:+0100
TZOFFSETTO:+0200
TZNAME:CEST
DTSTART:20210328T010000
END:DAYLIGHT
BEGIN:STANDARD
TZOFFSETFROM:+0200
TZOFFSETTO:+0100
TZNAME:CET
DTSTART:20211031T010000
END:STANDARD
END:VTIMEZONE
BEGIN:VEVENT
DTSTART;TZID=Europe/Paris:20200613T180000
DTEND;TZID=Europe/Paris:20200614T013000
DTSTAMP:20260422T174451
CREATED:20191210T153345Z
LAST-MODIFIED:20191210T153345Z
UID:20199-1592071200-1592098200@www.captaine-jack.com
SUMMARY:13 juin 2020 Festival  Montbout'd'son
DESCRIPTION:Festival Montbout’d’son 12 et 13 juin 2020\n90500 MONTBOUTON \nCAP’TAINE JACK y sera le samedi 13 juin 2020\n+ d’infos à venir
URL:https://www.captaine-jack.com/classes/13-juin-2020-festival-montboutdson/
LOCATION:Haute Saône
END:VEVENT
BEGIN:VEVENT
DTSTART;TZID=Europe/Paris:20200620T080000
DTEND;TZID=Europe/Paris:20200620T193000
DTSTAMP:20260422T174451
CREATED:20200213T195455Z
LAST-MODIFIED:20200213T195455Z
UID:20213-1592640000-1592681400@www.captaine-jack.com
SUMMARY:20 juin 2020 Fête de la musique à Cernay 68700
DESCRIPTION:À Cernay\, la fête de la musique est devenue un incontournable du début de l’été.\nDepuis de nombreuses années les mélomanes se retrouvent dans le Parc de Rives de la Thur pour découvrir de nombreux groupes de musique aux styles divers et variés. Le tout dans une ambiance familiale et décontractée au bord de la Thur.
URL:https://www.captaine-jack.com/classes/20-juin-2020-fete-de-la-musique-a-cernay-68700/
LOCATION:Cernay\, Par de la Thur\, Cernay\, 68700\, France
END:VEVENT
END:VCALENDAR