BEGIN:VCALENDAR
VERSION:2.0
PRODID:-//Capt&#039;aine Jack - ECPv6.15.20//NONSGML v1.0//EN
CALSCALE:GREGORIAN
METHOD:PUBLISH
X-ORIGINAL-URL:https://www.captaine-jack.com
X-WR-CALDESC:Évènements pour Capt&#039;aine Jack
REFRESH-INTERVAL;VALUE=DURATION:PT1H
X-Robots-Tag:noindex
X-PUBLISHED-TTL:PT1H
BEGIN:VTIMEZONE
TZID:Europe/Paris
BEGIN:DAYLIGHT
TZOFFSETFROM:+0100
TZOFFSETTO:+0200
TZNAME:CEST
DTSTART:20200329T010000
END:DAYLIGHT
BEGIN:STANDARD
TZOFFSETFROM:+0200
TZOFFSETTO:+0100
TZNAME:CET
DTSTART:20201025T010000
END:STANDARD
BEGIN:DAYLIGHT
TZOFFSETFROM:+0100
TZOFFSETTO:+0200
TZNAME:CEST
DTSTART:20210328T010000
END:DAYLIGHT
BEGIN:STANDARD
TZOFFSETFROM:+0200
TZOFFSETTO:+0100
TZNAME:CET
DTSTART:20211031T010000
END:STANDARD
BEGIN:DAYLIGHT
TZOFFSETFROM:+0100
TZOFFSETTO:+0200
TZNAME:CEST
DTSTART:20220327T010000
END:DAYLIGHT
BEGIN:STANDARD
TZOFFSETFROM:+0200
TZOFFSETTO:+0100
TZNAME:CET
DTSTART:20221030T010000
END:STANDARD
END:VTIMEZONE
BEGIN:VEVENT
DTSTART;TZID=Europe/Paris:20210814T200000
DTEND;TZID=Europe/Paris:20210814T233000
DTSTAMP:20260421T203826
CREATED:20210629T113528Z
LAST-MODIFIED:20210629T113528Z
UID:20300-1628971200-1628983800@www.captaine-jack.com
SUMMARY:14 août 2021 POLIGNY
DESCRIPTION:Premier concert de reprise après la période muette imposé par le Covid ….OUF !\nCe premier concert se fera dans le Jura\, à Poligny\, sur la place.\nQuel pied de pouvoir enfin retrouver la scène et le public.\nPour + d’infos : Mairie de Poligny 03 84 73 71 71
URL:https://www.captaine-jack.com/classes/14-aout-2021-poligny/
LOCATION:Poligny\, Poligny\, 39800\, France
END:VEVENT
END:VCALENDAR