BEGIN:VCALENDAR
VERSION:2.0
PRODID:-//Capt&#039;aine Jack - ECPv6.15.20//NONSGML v1.0//EN
CALSCALE:GREGORIAN
METHOD:PUBLISH
X-ORIGINAL-URL:https://www.captaine-jack.com
X-WR-CALDESC:Évènements pour Capt&#039;aine Jack
REFRESH-INTERVAL;VALUE=DURATION:PT1H
X-Robots-Tag:noindex
X-PUBLISHED-TTL:PT1H
BEGIN:VTIMEZONE
TZID:Europe/Paris
BEGIN:DAYLIGHT
TZOFFSETFROM:+0100
TZOFFSETTO:+0200
TZNAME:CEST
DTSTART:20200329T010000
END:DAYLIGHT
BEGIN:STANDARD
TZOFFSETFROM:+0200
TZOFFSETTO:+0100
TZNAME:CET
DTSTART:20201025T010000
END:STANDARD
BEGIN:DAYLIGHT
TZOFFSETFROM:+0100
TZOFFSETTO:+0200
TZNAME:CEST
DTSTART:20210328T010000
END:DAYLIGHT
BEGIN:STANDARD
TZOFFSETFROM:+0200
TZOFFSETTO:+0100
TZNAME:CET
DTSTART:20211031T010000
END:STANDARD
BEGIN:DAYLIGHT
TZOFFSETFROM:+0100
TZOFFSETTO:+0200
TZNAME:CEST
DTSTART:20220327T010000
END:DAYLIGHT
BEGIN:STANDARD
TZOFFSETFROM:+0200
TZOFFSETTO:+0100
TZNAME:CET
DTSTART:20221030T010000
END:STANDARD
END:VTIMEZONE
BEGIN:VEVENT
DTSTART;TZID=Europe/Paris:20211118T203000
DTEND;TZID=Europe/Paris:20211118T233000
DTSTAMP:20260421T155151
CREATED:20211014T190046Z
LAST-MODIFIED:20211014T190046Z
UID:20353-1637267400-1637278200@www.captaine-jack.com
SUMMARY:18 nov 2021 Beaujolais nouveau
DESCRIPTION:Pour fêter l’arrivée du Beaujolais nouveau comme il se doit nous serons en concert le jeudi 18 novembre 2021 au restaurant LE HARAS 1\, Ave sous les Vignes 90500 Beaucourt.\nReservations : 03 84 90 59 25
URL:https://www.captaine-jack.com/classes/concert-rock-celtique-2/
LOCATION:Restaurant Le HARAS\, Rue sous les Vignes\, Beaucourt\, Territoire de Belfort\, 90500\, France
END:VEVENT
BEGIN:VEVENT
DTSTART;TZID=Europe/Paris:20211126T080000
DTEND;TZID=Europe/Paris:20211126T233000
DTSTAMP:20260421T155151
CREATED:20211009T103406Z
LAST-MODIFIED:20211009T103406Z
UID:20347-1637913600-1637969400@www.captaine-jack.com
SUMMARY:26 nov 2021 Audincourt
DESCRIPTION:Un p’tit tour au far-west…\nLa flibuste débarque le vendredi 26 nov 2021 à Audincourt\, Nous accosterons avec notre galion au restaurant Oncle Scott’s à Audincourt (Juste à côté du Bowling)\nDe quoi raviver plein de jolis souvenirs de nos concerts d’avant dans cet établissement que nous connaissons bien et qui\, pour plein de raisons\, est cher à nos cœurs de pirates.\nBelle soirée en perspective.\nEt surtout pensez à réserver au 03 81 35 90 09 Voir moins
URL:https://www.captaine-jack.com/classes/concert-rock-celtique/
LOCATION:Restaurant Oncle Scott’s\, Espace Lumière\, Audincourt\, Doubs\, 25400\, France
END:VEVENT
END:VCALENDAR