BEGIN:VCALENDAR
VERSION:2.0
PRODID:-//Capt&#039;aine Jack - ECPv6.15.20//NONSGML v1.0//EN
CALSCALE:GREGORIAN
METHOD:PUBLISH
X-ORIGINAL-URL:https://www.captaine-jack.com
X-WR-CALDESC:Évènements pour Capt&#039;aine Jack
REFRESH-INTERVAL;VALUE=DURATION:PT1H
X-Robots-Tag:noindex
X-PUBLISHED-TTL:PT1H
BEGIN:VTIMEZONE
TZID:Europe/Paris
BEGIN:DAYLIGHT
TZOFFSETFROM:+0100
TZOFFSETTO:+0200
TZNAME:CEST
DTSTART:20200329T010000
END:DAYLIGHT
BEGIN:STANDARD
TZOFFSETFROM:+0200
TZOFFSETTO:+0100
TZNAME:CET
DTSTART:20201025T010000
END:STANDARD
BEGIN:DAYLIGHT
TZOFFSETFROM:+0100
TZOFFSETTO:+0200
TZNAME:CEST
DTSTART:20210328T010000
END:DAYLIGHT
BEGIN:STANDARD
TZOFFSETFROM:+0200
TZOFFSETTO:+0100
TZNAME:CET
DTSTART:20211031T010000
END:STANDARD
BEGIN:DAYLIGHT
TZOFFSETFROM:+0100
TZOFFSETTO:+0200
TZNAME:CEST
DTSTART:20220327T010000
END:DAYLIGHT
BEGIN:STANDARD
TZOFFSETFROM:+0200
TZOFFSETTO:+0100
TZNAME:CET
DTSTART:20221030T010000
END:STANDARD
END:VTIMEZONE
BEGIN:VEVENT
DTSTART;TZID=Europe/Paris:20211204T203000
DTEND;TZID=Europe/Paris:20211204T233000
DTSTAMP:20260421T142540
CREATED:20211004T104520Z
LAST-MODIFIED:20211004T104520Z
UID:20335-1638649800-1638660600@www.captaine-jack.com
SUMMARY:4 dec 2021 Dampierre sur le Doubs
DESCRIPTION:Les pirates se mettent O’vert !…  \nNous serons en concert le samedi 4 décembre 2021 au restaurant O’VERT au golf de Prunevelle  25420 Dampierre sur le Doubs…\nRenseignements et réservations : 03 81 37 25 73
URL:https://www.captaine-jack.com/classes/captaine-jack-en-concert/
LOCATION:Restaurant O’Vert\, Golf de Prunevelle\, Dampierre sur le Doubs\, Doubs\, 25420\, France
END:VEVENT
END:VCALENDAR