BEGIN:VCALENDAR
VERSION:2.0
PRODID:-//Capt&#039;aine Jack - ECPv6.15.20//NONSGML v1.0//EN
CALSCALE:GREGORIAN
METHOD:PUBLISH
X-ORIGINAL-URL:https://www.captaine-jack.com
X-WR-CALDESC:Évènements pour Capt&#039;aine Jack
REFRESH-INTERVAL;VALUE=DURATION:PT1H
X-Robots-Tag:noindex
X-PUBLISHED-TTL:PT1H
BEGIN:VTIMEZONE
TZID:Europe/Paris
BEGIN:DAYLIGHT
TZOFFSETFROM:+0100
TZOFFSETTO:+0200
TZNAME:CEST
DTSTART:20210328T010000
END:DAYLIGHT
BEGIN:STANDARD
TZOFFSETFROM:+0200
TZOFFSETTO:+0100
TZNAME:CET
DTSTART:20211031T010000
END:STANDARD
BEGIN:DAYLIGHT
TZOFFSETFROM:+0100
TZOFFSETTO:+0200
TZNAME:CEST
DTSTART:20220327T010000
END:DAYLIGHT
BEGIN:STANDARD
TZOFFSETFROM:+0200
TZOFFSETTO:+0100
TZNAME:CET
DTSTART:20221030T010000
END:STANDARD
BEGIN:DAYLIGHT
TZOFFSETFROM:+0100
TZOFFSETTO:+0200
TZNAME:CEST
DTSTART:20230326T010000
END:DAYLIGHT
BEGIN:STANDARD
TZOFFSETFROM:+0200
TZOFFSETTO:+0100
TZNAME:CET
DTSTART:20231029T010000
END:STANDARD
END:VTIMEZONE
BEGIN:VEVENT
DTSTART;TZID=Europe/Paris:20220514T193000
DTEND;TZID=Europe/Paris:20220514T233000
DTSTAMP:20260421T061455
CREATED:20220127T185021Z
LAST-MODIFIED:20220127T185021Z
UID:20382-1652556600-1652571000@www.captaine-jack.com
SUMMARY:14 mai 2022 Anniversaire Cap'taine Jack
DESCRIPTION:HAPPY BIRTHDAY CAP’TAINE JACK 🍾\nOla du bateau\, moussaillons\, flibustiers\, corsaires et autres pirates d’eaux douces\, qu’on se le dise dans les tavernes de France et de Navarre\, le samedi 14 mai 2022 CAP’TAINE JACK fêtera son anniversaire…🥳\nOù ça ?…Salle des fêtes – 15 rue du Capitaine Finance 25310 HÉRIMONCOURT\nLa présentation de la soirée sera assurée par l’ami Sirius.\nOuvertures des portes dès 19h30\n– 20h30 Première partie : Le talentueux guitariste Elliot Cowell\n– 22h00 Concert Cap’taine Jack + Guest + Invités surprise\nPour le fun\, venez déguisé 😉🥳\nBuvette et petite restauration.\nPrix d’entrée unique : 8€ (Gratuit – de12 ans)\nPas de réservation\, soyez à l’heure !…\nRenseignements : captaine.jack@orange.fr\nPass et masque obligatoire si toujours en vigueur le jour du concert.
URL:https://www.captaine-jack.com/classes/14-mai-2022-anniversaire-captaine-jack/
LOCATION:Salle des fêtes Hérimoncourt\, 15 rue du Capitaine Finance\, Hérimoncourt\, Doubs\, 25310
ORGANIZER;CN="Ass Cap'taine JAck":MAILTO:captaine.jack@orange.fr
END:VEVENT
BEGIN:VEVENT
DTSTART;TZID=Europe/Paris:20220520T190000
DTEND;TZID=Europe/Paris:20220520T220000
DTSTAMP:20260421T061456
CREATED:20220411T164759Z
LAST-MODIFIED:20220411T164759Z
UID:20427-1653073200-1653084000@www.captaine-jack.com
SUMMARY:20 mai 2022 Baume-les Dames
DESCRIPTION:Concert rock celtique pour l’établissement Capsule & bouchon – 6\, Esplanade du Breuil 25110 Baume-les-Dames.\nConcert à 19h00\nRenseignements : 03 81 25 67 24
URL:https://www.captaine-jack.com/classes/concert-rock-celtique-6/
LOCATION:Capsule & bouchon\, 6\, Esplanade du Breuil\, Baume-les-Dames\, Franche Conté\, 25110\, France
ORGANIZER;CN="Capsule & Bouchon":MAILTO:benoit.wittrant@capsule-bouchon.fr
END:VEVENT
END:VCALENDAR