BEGIN:VCALENDAR
VERSION:2.0
PRODID:-//Capt&#039;aine Jack - ECPv6.15.20//NONSGML v1.0//EN
CALSCALE:GREGORIAN
METHOD:PUBLISH
X-WR-CALNAME:Capt&#039;aine Jack
X-ORIGINAL-URL:https://www.captaine-jack.com
X-WR-CALDESC:Évènements pour Capt&#039;aine Jack
REFRESH-INTERVAL;VALUE=DURATION:PT1H
X-Robots-Tag:noindex
X-PUBLISHED-TTL:PT1H
BEGIN:VTIMEZONE
TZID:Europe/Paris
BEGIN:DAYLIGHT
TZOFFSETFROM:+0100
TZOFFSETTO:+0200
TZNAME:CEST
DTSTART:20210328T010000
END:DAYLIGHT
BEGIN:STANDARD
TZOFFSETFROM:+0200
TZOFFSETTO:+0100
TZNAME:CET
DTSTART:20211031T010000
END:STANDARD
BEGIN:DAYLIGHT
TZOFFSETFROM:+0100
TZOFFSETTO:+0200
TZNAME:CEST
DTSTART:20220327T010000
END:DAYLIGHT
BEGIN:STANDARD
TZOFFSETFROM:+0200
TZOFFSETTO:+0100
TZNAME:CET
DTSTART:20221030T010000
END:STANDARD
BEGIN:DAYLIGHT
TZOFFSETFROM:+0100
TZOFFSETTO:+0200
TZNAME:CEST
DTSTART:20230326T010000
END:DAYLIGHT
BEGIN:STANDARD
TZOFFSETFROM:+0200
TZOFFSETTO:+0100
TZNAME:CET
DTSTART:20231029T010000
END:STANDARD
END:VTIMEZONE
BEGIN:VEVENT
DTSTART;TZID=Europe/Paris:20220708T203000
DTEND;TZID=Europe/Paris:20220708T233000
DTSTAMP:20260421T025902
CREATED:20220201T150259Z
LAST-MODIFIED:20220201T150541Z
UID:20394-1657312200-1657323000@www.captaine-jack.com
SUMMARY:8 juillet 2022 FESTIV'ÉTÉ - Etupes
DESCRIPTION:Dans le cadre des FESTIV’ÉTÉ\, le syndicat d’initiative de la commune d’Etupes dans le Doubs\, organise plusieurs concerts chaque vendredi soir de mi-juillet à fin août.\nLe groupe Cap’taine Jack sera programmé le vendredi 8 juillet 2022\, le concert se déroulera dans la cours de l’école du centre\, Place du Marché 25460 ETUPES.\nRenseignements: Mairie d’Etupes – Service Animation 03 81 99 61 00 Voir moins
URL:https://www.captaine-jack.com/classes/8-juillet-2022-festivete-etupes/
LOCATION:Ecole du Centre\, Place du Marché\, Etupes\, Doubs\, 25460\, France
END:VEVENT
BEGIN:VEVENT
DTSTART;TZID=Europe/Paris:20220709T190000
DTEND;TZID=Europe/Paris:20220709T233000
DTSTAMP:20260421T025902
CREATED:20220504T093012Z
LAST-MODIFIED:20220504T093012Z
UID:20439-1657393200-1657409400@www.captaine-jack.com
SUMMARY:9 juillet 2022 Kermesse de Blussans 25250
DESCRIPTION:Le comité des fêtes de Blussans organise le samedi 9 juillet 2022 sa kermesse annuelle.\nEn + des animations habituelles\, cette année 2 groupes vont se produire.\n– 19h30 SUPER GREEN\n– 21h00 CAP’TAINE JACK\nPour + de renseignements :\n09 33 60 04 18\ncomitefetesblussans@gmail.com\nRestauration/buvette
URL:https://www.captaine-jack.com/classes/9-juillet-2022-kermesse-de-blussans-25250/
LOCATION:PLace du village\, Place du Village\, Blussans\, Franche Conté\, 25250\, France
ORGANIZER;CN="Comit%C3%A9 des F%C3%AAtes Blussans":MAILTO:comitefetesblussans@gmail.com
END:VEVENT
BEGIN:VEVENT
DTSTART;TZID=Europe/Paris:20220713T210000
DTEND;TZID=Europe/Paris:20220713T233000
DTSTAMP:20260421T025902
CREATED:20220325T124043Z
LAST-MODIFIED:20220325T124043Z
UID:20413-1657746000-1657755000@www.captaine-jack.com
SUMMARY:13 juillet 2022 SOCHAUX
DESCRIPTION:Organisé par le comité des fêtes de Sochaux 25600\nFestivités pour la fête Nationale\nRestauration Buvette\nRenseignements 06 70 76 63 58
URL:https://www.captaine-jack.com/classes/13-juillet-2022-fete-nationale/
LOCATION:Plain Air\, Rue des Chênes\, Sochaux\, Franche Conté\, 25600\, France
ORGANIZER;CN="Comit%C3%A9 des F%C3%AAtes Sochaux":MAILTO:corinne.sokol@sfr.fr
END:VEVENT
END:VCALENDAR