BEGIN:VCALENDAR
VERSION:2.0
PRODID:-//Capt&#039;aine Jack - ECPv6.15.20//NONSGML v1.0//EN
CALSCALE:GREGORIAN
METHOD:PUBLISH
X-ORIGINAL-URL:https://www.captaine-jack.com
X-WR-CALDESC:Évènements pour Capt&#039;aine Jack
REFRESH-INTERVAL;VALUE=DURATION:PT1H
X-Robots-Tag:noindex
X-PUBLISHED-TTL:PT1H
BEGIN:VTIMEZONE
TZID:Europe/Paris
BEGIN:DAYLIGHT
TZOFFSETFROM:+0100
TZOFFSETTO:+0200
TZNAME:CEST
DTSTART:20220327T010000
END:DAYLIGHT
BEGIN:STANDARD
TZOFFSETFROM:+0200
TZOFFSETTO:+0100
TZNAME:CET
DTSTART:20221030T010000
END:STANDARD
BEGIN:DAYLIGHT
TZOFFSETFROM:+0100
TZOFFSETTO:+0200
TZNAME:CEST
DTSTART:20230326T010000
END:DAYLIGHT
BEGIN:STANDARD
TZOFFSETFROM:+0200
TZOFFSETTO:+0100
TZNAME:CET
DTSTART:20231029T010000
END:STANDARD
BEGIN:DAYLIGHT
TZOFFSETFROM:+0100
TZOFFSETTO:+0200
TZNAME:CEST
DTSTART:20240331T010000
END:DAYLIGHT
BEGIN:STANDARD
TZOFFSETFROM:+0200
TZOFFSETTO:+0100
TZNAME:CET
DTSTART:20241027T010000
END:STANDARD
END:VTIMEZONE
BEGIN:VEVENT
DTSTART;TZID=Europe/Paris:20230211T203000
DTEND;TZID=Europe/Paris:20230211T233000
DTSTAMP:20260420T153213
CREATED:20220928T084556Z
LAST-MODIFIED:20220928T101402Z
UID:20601-1676147400-1676158200@www.captaine-jack.com
SUMMARY:Sam 11 fév 2023 Valentigney
DESCRIPTION:Un p’tit goût de l’Italie flottera dans l’air le samedi 11 février 2023…Direction Valentigney à la Pizzeria PIZZA QUALITÁ 34\, rue Oehmichen 25700 Valentigney pour un concert rock celtique avec CAP’TAINE JACK….\nPour réserver : 09 53 97 11 72 ou 07 69 86 94 78
URL:https://www.captaine-jack.com/classes/sam-11-fev-2023-valentigney/
LOCATION:Pizza Qualità\, 34\, rue Oehmichen\, Valentigney\, Franche Conté\, 25700\, France
ORGANIZER;CN="Pizza Qualit%C3%A0":MAILTO:verney.gregory@orange.fr
END:VEVENT
END:VCALENDAR