BEGIN:VCALENDAR
VERSION:2.0
PRODID:-//Capt&#039;aine Jack - ECPv6.15.20//NONSGML v1.0//EN
CALSCALE:GREGORIAN
METHOD:PUBLISH
X-ORIGINAL-URL:https://www.captaine-jack.com
X-WR-CALDESC:Évènements pour Capt&#039;aine Jack
REFRESH-INTERVAL;VALUE=DURATION:PT1H
X-Robots-Tag:noindex
X-PUBLISHED-TTL:PT1H
BEGIN:VTIMEZONE
TZID:Europe/Paris
BEGIN:DAYLIGHT
TZOFFSETFROM:+0100
TZOFFSETTO:+0200
TZNAME:CEST
DTSTART:20220327T010000
END:DAYLIGHT
BEGIN:STANDARD
TZOFFSETFROM:+0200
TZOFFSETTO:+0100
TZNAME:CET
DTSTART:20221030T010000
END:STANDARD
BEGIN:DAYLIGHT
TZOFFSETFROM:+0100
TZOFFSETTO:+0200
TZNAME:CEST
DTSTART:20230326T010000
END:DAYLIGHT
BEGIN:STANDARD
TZOFFSETFROM:+0200
TZOFFSETTO:+0100
TZNAME:CET
DTSTART:20231029T010000
END:STANDARD
BEGIN:DAYLIGHT
TZOFFSETFROM:+0100
TZOFFSETTO:+0200
TZNAME:CEST
DTSTART:20240331T010000
END:DAYLIGHT
BEGIN:STANDARD
TZOFFSETFROM:+0200
TZOFFSETTO:+0100
TZNAME:CET
DTSTART:20241027T010000
END:STANDARD
END:VTIMEZONE
BEGIN:VEVENT
DTSTART;TZID=Europe/Paris:20230430T160000
DTEND;TZID=Europe/Paris:20230430T183000
DTSTAMP:20260420T122025
CREATED:20230217T161008Z
LAST-MODIFIED:20230217T161042Z
UID:21244-1682870400-1682879400@www.captaine-jack.com
SUMMARY:Dimanche 30 avril 2023 Grosne 90100
DESCRIPTION:Direction le Territoire de Belfort \nLe dimanche 30 avril 2023 les pirates débarquent à la fête du village de Grosne 90100 ( à quelques lieux de Delle) \nConcert prévu à 16h00 – sous chapiteau \nRenseignements : Association ANIM’A GROSNE 06 30 67 22 16 – animagrosne@yahoo.fr
URL:https://www.captaine-jack.com/classes/dimanche-30-avril-grosne-90100/
LOCATION:Fête du village\, Grosne\, Territoire de Belfort\, 90100\, France
ORGANIZER;CN="Anim'a Grosne":MAILTO:animagrosne@yahoo.fr
END:VEVENT
END:VCALENDAR