BEGIN:VCALENDAR
VERSION:2.0
PRODID:-//Capt&#039;aine Jack - ECPv6.15.20//NONSGML v1.0//EN
CALSCALE:GREGORIAN
METHOD:PUBLISH
X-WR-CALNAME:Capt&#039;aine Jack
X-ORIGINAL-URL:https://www.captaine-jack.com
X-WR-CALDESC:Évènements pour Capt&#039;aine Jack
REFRESH-INTERVAL;VALUE=DURATION:PT1H
X-Robots-Tag:noindex
X-PUBLISHED-TTL:PT1H
BEGIN:VTIMEZONE
TZID:Europe/Paris
BEGIN:DAYLIGHT
TZOFFSETFROM:+0100
TZOFFSETTO:+0200
TZNAME:CEST
DTSTART:20220327T010000
END:DAYLIGHT
BEGIN:STANDARD
TZOFFSETFROM:+0200
TZOFFSETTO:+0100
TZNAME:CET
DTSTART:20221030T010000
END:STANDARD
BEGIN:DAYLIGHT
TZOFFSETFROM:+0100
TZOFFSETTO:+0200
TZNAME:CEST
DTSTART:20230326T010000
END:DAYLIGHT
BEGIN:STANDARD
TZOFFSETFROM:+0200
TZOFFSETTO:+0100
TZNAME:CET
DTSTART:20231029T010000
END:STANDARD
BEGIN:DAYLIGHT
TZOFFSETFROM:+0100
TZOFFSETTO:+0200
TZNAME:CEST
DTSTART:20240331T010000
END:DAYLIGHT
BEGIN:STANDARD
TZOFFSETFROM:+0200
TZOFFSETTO:+0100
TZNAME:CET
DTSTART:20241027T010000
END:STANDARD
END:VTIMEZONE
BEGIN:VEVENT
DTSTART;TZID=Europe/Paris:20230602T203000
DTEND;TZID=Europe/Paris:20230602T233000
DTSTAMP:20260420T091318
CREATED:20230216T133228Z
LAST-MODIFIED:20230216T133228Z
UID:21238-1685737800-1685748600@www.captaine-jack.com
SUMMARY:2 juin 2023 Festival Montbout'd'son
DESCRIPTION:Le festival Montbout’d’son\, c’est le festival de la bière et de la musique\, à Montbouton 90500\, dans le sud du Territoire de Belfort\, sur le plateau de Croix \nPour cette 3ème édition le festival se déroulera les 2 et 3 juin 2023 \nCap’taine Jack y sera en concert le vendredi 2 juin (horaire non encore défini) \n+ d’infos sur le site du festival : https://montboutdsonfestival.fr
URL:https://www.captaine-jack.com/classes/2-juin-2023-festival-montboutdson/
LOCATION:Festival MONTBOUT’D’SON\, Plateau de Croix\, Montbouton\, Territoire de Belfort\, 90500\, France
END:VEVENT
BEGIN:VEVENT
DTSTART;TZID=Europe/Paris:20230617T200000
DTEND;TZID=Europe/Paris:20230617T233000
DTSTAMP:20260420T091318
CREATED:20221114T135326Z
LAST-MODIFIED:20221202T132301Z
UID:20987-1687032000-1687044600@www.captaine-jack.com
SUMMARY:Sam 17 juin 2023 Maîche 25120
DESCRIPTION:Nous serons le samedi 17 juin en concert à Maîche 25120 dans le cadres de la fête de la musique…\n+ d’infos à venir
URL:https://www.captaine-jack.com/classes/sam-17-juin-2023-maiche-25120/
LOCATION:25120 Maîche\, Rue Montalembert\, Maîche\, Franche Conté\, 25120\, France
END:VEVENT
BEGIN:VEVENT
DTSTART;TZID=Europe/Paris:20230621T080000
DTEND;TZID=Europe/Paris:20230621T190000
DTSTAMP:20260420T091318
CREATED:20230219T114955Z
LAST-MODIFIED:20230219T114955Z
UID:21251-1687334400-1687374000@www.captaine-jack.com
SUMMARY:Mer 21 juin Fête de la zic
DESCRIPTION:Mercredi 21 juin 2023 FÊTE DE LA MUSIQUE\nNous serons en concert au restaurant LA ROTONDE\n1\, Promenade de la Rêverie 25600 Sochaux\nRéservations : 03 81 91 73 85\nAu programme\n– 19h30 Première partie avec l’excellent Eric NICOLET et sa guitare – (Chansons françaises pimentées)\n– 21h00 CAP’TAINE JACK et son rock-folk-celtique-festif\nPensez à réserver les amis !
URL:https://www.captaine-jack.com/classes/mer-21-juin-fete-de-la-zic/
LOCATION:La Rotonde\, 1\, Promenade de la Rêverie\, Sochaux\, Doubs\, 5600\, France
ORGANIZER;CN="Restaurant LA ROTONDE":MAILTO:direction@larotondesochaux.fr
END:VEVENT
END:VCALENDAR