BEGIN:VCALENDAR
VERSION:2.0
PRODID:-//Capt&#039;aine Jack - ECPv6.15.20//NONSGML v1.0//EN
CALSCALE:GREGORIAN
METHOD:PUBLISH
X-WR-CALNAME:Capt&#039;aine Jack
X-ORIGINAL-URL:https://www.captaine-jack.com
X-WR-CALDESC:Évènements pour Capt&#039;aine Jack
REFRESH-INTERVAL;VALUE=DURATION:PT1H
X-Robots-Tag:noindex
X-PUBLISHED-TTL:PT1H
BEGIN:VTIMEZONE
TZID:Europe/Paris
BEGIN:DAYLIGHT
TZOFFSETFROM:+0100
TZOFFSETTO:+0200
TZNAME:CEST
DTSTART:20220327T010000
END:DAYLIGHT
BEGIN:STANDARD
TZOFFSETFROM:+0200
TZOFFSETTO:+0100
TZNAME:CET
DTSTART:20221030T010000
END:STANDARD
BEGIN:DAYLIGHT
TZOFFSETFROM:+0100
TZOFFSETTO:+0200
TZNAME:CEST
DTSTART:20230326T010000
END:DAYLIGHT
BEGIN:STANDARD
TZOFFSETFROM:+0200
TZOFFSETTO:+0100
TZNAME:CET
DTSTART:20231029T010000
END:STANDARD
BEGIN:DAYLIGHT
TZOFFSETFROM:+0100
TZOFFSETTO:+0200
TZNAME:CEST
DTSTART:20240331T010000
END:DAYLIGHT
BEGIN:STANDARD
TZOFFSETFROM:+0200
TZOFFSETTO:+0100
TZNAME:CET
DTSTART:20241027T010000
END:STANDARD
END:VTIMEZONE
BEGIN:VEVENT
DTSTART;TZID=Europe/Paris:20230902T203000
DTEND;TZID=Europe/Paris:20230902T203000
DTSTAMP:20260420T045046
CREATED:20230406T161346Z
LAST-MODIFIED:20230406T161346Z
UID:21288-1693686600-1693686600@www.captaine-jack.com
SUMMARY:Sam 2 sept 2023 Le Petit Paris
DESCRIPTION:Voilà un concert qui s’annonce plus que très bien…\nAu restaurant « Le Petit Paris »\nSur la N57\n2\, rue du Haut-Doubs Lieu-dit Le Petit Paris 25580\nRéservations : 03 81 60 04 42\nCroyez-nous sur parole\, c’est un p’tit coin de Paradis tenu de main de maître par les très sympathiques Marlène et Alban
URL:https://www.captaine-jack.com/classes/sam-2-sept-2023-le-petit-paris/
LOCATION:Restaurant Le Petit Paris\, 2\, Rue du Haut-Doubs\, Chasnans - Lieu-dit Le Petit Paris\, Doubs\, 25580\, France
END:VEVENT
END:VCALENDAR