BEGIN:VCALENDAR
VERSION:2.0
PRODID:-//Capt&#039;aine Jack - ECPv6.15.20//NONSGML v1.0//EN
CALSCALE:GREGORIAN
METHOD:PUBLISH
X-ORIGINAL-URL:https://www.captaine-jack.com
X-WR-CALDESC:Évènements pour Capt&#039;aine Jack
REFRESH-INTERVAL;VALUE=DURATION:PT1H
X-Robots-Tag:noindex
X-PUBLISHED-TTL:PT1H
BEGIN:VTIMEZONE
TZID:Europe/Paris
BEGIN:DAYLIGHT
TZOFFSETFROM:+0100
TZOFFSETTO:+0200
TZNAME:CEST
DTSTART:20230326T010000
END:DAYLIGHT
BEGIN:STANDARD
TZOFFSETFROM:+0200
TZOFFSETTO:+0100
TZNAME:CET
DTSTART:20231029T010000
END:STANDARD
BEGIN:DAYLIGHT
TZOFFSETFROM:+0100
TZOFFSETTO:+0200
TZNAME:CEST
DTSTART:20240331T010000
END:DAYLIGHT
BEGIN:STANDARD
TZOFFSETFROM:+0200
TZOFFSETTO:+0100
TZNAME:CET
DTSTART:20241027T010000
END:STANDARD
BEGIN:DAYLIGHT
TZOFFSETFROM:+0100
TZOFFSETTO:+0200
TZNAME:CEST
DTSTART:20250330T010000
END:DAYLIGHT
BEGIN:STANDARD
TZOFFSETFROM:+0200
TZOFFSETTO:+0100
TZNAME:CET
DTSTART:20251026T010000
END:STANDARD
END:VTIMEZONE
BEGIN:VEVENT
DTSTART;TZID=Europe/Paris:20240316T183000
DTEND;TZID=Europe/Paris:20240316T233000
DTSTAMP:20260419T203538
CREATED:20231004T144843Z
LAST-MODIFIED:20231004T144843Z
UID:21341-1710613800-1710631800@www.captaine-jack.com
SUMMARY:16 mars 2024 SAINT PATRICK
DESCRIPTION:SAINT PATRICK 2024\nau Gymnase du Monceau\nrue Auguste Renoir\n90300 VALDOIE\nRestauration/ buvette\nouverture des porte 18h30\n19h30 LES SONNEURS DU LION\n21H00 CAP’TAINE JACK\n+ d’infos à venir\nRenseignements 03 84 26 47 24
URL:https://www.captaine-jack.com/classes/16-mars-2024-saint-patrick/
LOCATION:Gymnase du Monceau\, Rue Auguste Renoir\, Valdoie\, Franche Comté\, 90300
END:VEVENT
END:VCALENDAR