BEGIN:VCALENDAR
VERSION:2.0
PRODID:-//Capt&#039;aine Jack - ECPv6.15.20//NONSGML v1.0//EN
CALSCALE:GREGORIAN
METHOD:PUBLISH
X-WR-CALNAME:Capt&#039;aine Jack
X-ORIGINAL-URL:https://www.captaine-jack.com
X-WR-CALDESC:Évènements pour Capt&#039;aine Jack
REFRESH-INTERVAL;VALUE=DURATION:PT1H
X-Robots-Tag:noindex
X-PUBLISHED-TTL:PT1H
BEGIN:VTIMEZONE
TZID:Europe/Paris
BEGIN:DAYLIGHT
TZOFFSETFROM:+0100
TZOFFSETTO:+0200
TZNAME:CEST
DTSTART:20230326T010000
END:DAYLIGHT
BEGIN:STANDARD
TZOFFSETFROM:+0200
TZOFFSETTO:+0100
TZNAME:CET
DTSTART:20231029T010000
END:STANDARD
BEGIN:DAYLIGHT
TZOFFSETFROM:+0100
TZOFFSETTO:+0200
TZNAME:CEST
DTSTART:20240331T010000
END:DAYLIGHT
BEGIN:STANDARD
TZOFFSETFROM:+0200
TZOFFSETTO:+0100
TZNAME:CET
DTSTART:20241027T010000
END:STANDARD
BEGIN:DAYLIGHT
TZOFFSETFROM:+0100
TZOFFSETTO:+0200
TZNAME:CEST
DTSTART:20250330T010000
END:DAYLIGHT
BEGIN:STANDARD
TZOFFSETFROM:+0200
TZOFFSETTO:+0100
TZNAME:CET
DTSTART:20251026T010000
END:STANDARD
END:VTIMEZONE
BEGIN:VEVENT
DTSTART;TZID=Europe/Paris:20240615T190000
DTEND;TZID=Europe/Paris:20240615T233000
DTSTAMP:20260419T165305
CREATED:20240413T072353Z
LAST-MODIFIED:20240413T072353Z
UID:21358-1718478000-1718494200@www.captaine-jack.com
SUMMARY:15 juin 2024 - 20 ans du moto club 25230 Vandoncourt
DESCRIPTION:Le Samedi 15 juin 2004 le Moto-Club de Vandoncourt fête ses 20 ans… \nConcert à la colo à Vandoncourt avec Captaine Jack et 2 autres groupes
URL:https://www.captaine-jack.com/classes/15-juin-2024-20-ans-du-moto-club-25230-vandoncourt/
LOCATION:Salle de la Colo\, Rue du Pont Sarazin\, Vandoncourt\, Franche Conté\, 25230\, France
END:VEVENT
BEGIN:VEVENT
DTSTART;TZID=Europe/Paris:20240622T210000
DTEND;TZID=Europe/Paris:20240622T233000
DTSTAMP:20260419T165305
CREATED:20240413T073803Z
LAST-MODIFIED:20240413T073803Z
UID:21365-1719090000-1719099000@www.captaine-jack.com
SUMMARY:22 juin 2024 - 25700 Valentigney
DESCRIPTION:Le lendemain de la fête de la zic – Concert le samedi 22 juin \nau restaurant PIZZA QUALITA \n34 rue Oemichen  25700 Valentigney
URL:https://www.captaine-jack.com/classes/22-juin-2024-25700-valentigney/
LOCATION:Pizza Qualità\, 34\, rue Oehmichen\, Valentigney\, Franche Conté\, 25700\, France
ORGANIZER;CN="Pizza Qualit%C3%A0":MAILTO:verney.gregory@orange.fr
END:VEVENT
END:VCALENDAR