BEGIN:VCALENDAR
VERSION:2.0
PRODID:-//Capt&#039;aine Jack - ECPv6.15.20//NONSGML v1.0//EN
CALSCALE:GREGORIAN
METHOD:PUBLISH
X-ORIGINAL-URL:https://www.captaine-jack.com
X-WR-CALDESC:Évènements pour Capt&#039;aine Jack
REFRESH-INTERVAL;VALUE=DURATION:PT1H
X-Robots-Tag:noindex
X-PUBLISHED-TTL:PT1H
BEGIN:VTIMEZONE
TZID:Europe/Paris
BEGIN:DAYLIGHT
TZOFFSETFROM:+0100
TZOFFSETTO:+0200
TZNAME:CEST
DTSTART:20230326T010000
END:DAYLIGHT
BEGIN:STANDARD
TZOFFSETFROM:+0200
TZOFFSETTO:+0100
TZNAME:CET
DTSTART:20231029T010000
END:STANDARD
BEGIN:DAYLIGHT
TZOFFSETFROM:+0100
TZOFFSETTO:+0200
TZNAME:CEST
DTSTART:20240331T010000
END:DAYLIGHT
BEGIN:STANDARD
TZOFFSETFROM:+0200
TZOFFSETTO:+0100
TZNAME:CET
DTSTART:20241027T010000
END:STANDARD
BEGIN:DAYLIGHT
TZOFFSETFROM:+0100
TZOFFSETTO:+0200
TZNAME:CEST
DTSTART:20250330T010000
END:DAYLIGHT
BEGIN:STANDARD
TZOFFSETFROM:+0200
TZOFFSETTO:+0100
TZNAME:CET
DTSTART:20251026T010000
END:STANDARD
END:VTIMEZONE
BEGIN:VEVENT
DTSTART;TZID=Europe/Paris:20240706T183000
DTEND;TZID=Europe/Paris:20240706T233000
DTSTAMP:20260419T154506
CREATED:20240413T073022Z
LAST-MODIFIED:20240413T073232Z
UID:21361-1720290600-1720308600@www.captaine-jack.com
SUMMARY:6 juillet 2024 - 25550 Bavans
DESCRIPTION:L’amicale des associations de Bavans organise le samedi 6 juillet 2024 un concert avec le groupe Cap’taine JackConcert à 21h00 – Place des fêtesRenseignements : amicalebavans@gmail.com
URL:https://www.captaine-jack.com/classes/16-mars-2024-saint-patrick-2/
LOCATION:Place des fêtes\, Bavans\, Franche Comté\, 25550\, France
END:VEVENT
BEGIN:VEVENT
DTSTART;TZID=Europe/Paris:20240712T203000
DTEND;TZID=Europe/Paris:20240712T230000
DTSTAMP:20260419T154506
CREATED:20230731T170305Z
LAST-MODIFIED:20240413T071643Z
UID:21325-1720816200-1720825200@www.captaine-jack.com
SUMMARY:12 juillet 2024 - FÊTE NATIONALE - 25 ÈTUPES
DESCRIPTION:FÊTE NATIONALE \nVENDREDI 12 JUILLET 2024 \nOrganisation : Mairie d’Ètupes 25460
URL:https://www.captaine-jack.com/classes/12-juillet-2024-fete-nationale-25-etupes/
LOCATION:Stade Ètupes\, Rue des Vernes\, Ètupes\, Doubs\, 25460\, France
END:VEVENT
BEGIN:VEVENT
DTSTART;TZID=Europe/Paris:20240720T203000
DTEND;TZID=Europe/Paris:20240720T233000
DTSTAMP:20260419T154506
CREATED:20230817T123935Z
LAST-MODIFIED:20230817T123935Z
UID:21331-1721507400-1721518200@www.captaine-jack.com
SUMMARY:20 juillet 2024 base nautique - Brognard
DESCRIPTION:Retour des pirate au bar « La Plage »\nBase nautique de Brognard 25600\nPensez à réserver pour manger… 03 81 30 31 29
URL:https://www.captaine-jack.com/classes/20-juillet-2024-base-nautique-brognard/
LOCATION:Bar LA PLAGE\, Base Nautique\, Brognard\, Doubs\, 25600\, France
END:VEVENT
END:VCALENDAR